BEGIN:VCALENDAR
VERSION:2.0
PRODID:-//Stadtgeschichte München//DE
CALSCALE:GREGORIAN
BEGIN:VEVENT
UID:23294@stadtgeschichte-muenchen.de
SUMMARY:Nachts im Druckhaus der Mediengruppe Münchner Merkur/tz
DESCRIPTION:&lt;p&gt;Wie nimmt eine Zeitung Gestalt an? Die Führung zeigt den spannenden Weg durch das Druckzentrum, an dessen Ende der Münchner Merkur oder die tz druckfrisch zur Lieferung bereitliegen. Aber auch andere Produkte, Zeitungen und Zeitschriften, werden mit der hochkomplexen, modernen Technik der leistungsstarken Rotationsdruckmaschinen erstellt und aus dem Münchner Norden an die Leserinnen und Leser ausgeliefert.&lt;/p&gt; 
DTSTART:20231026T213000
DTEND:20231026T230000
LOCATION:Münchner Merkur/tz Dessauer Str. 10
ORGANIZER:MVHS
END:VEVENT
END:VCALENDAR