BEGIN:VCALENDAR
VERSION:2.0
PRODID:-//Stadtgeschichte München//DE
CALSCALE:GREGORIAN
BEGIN:VEVENT
UID:23297@stadtgeschichte-muenchen.de
SUMMARY:Die Borstei
DESCRIPTION:&lt;p&gt;Die Borstei wurde zwischen 1924 und 1929 vom Architekten und Bauunternehmer Bernhard Borst als &quot;kultivierte Wohnsiedlung&quot; erbaut, mit Läden, Postamt, Kindergärten und einem zentralen Heizkraftwerk. Bei diesem Rundgang stehen die Entstehungsgeschichte dieser autarken, denkmalgeschützten Siedlung, ihre architektonischen Reize, städtebaulichen Besonderheiten und die kunstvoll angelegten Gärten im Fokus. Dabei wird auch über die Idee des in München einmaligen Gemeinwesens und über heutige Mieterprobleme diskutiert.&lt;/p&gt; 
DTSTART:20231018T170000
DTEND:20231018T193000
LOCATION:Borstei, Haupteingang Dachauer Str. 140d
ORGANIZER:MVHS
END:VEVENT
END:VCALENDAR