BEGIN:VCALENDAR
VERSION:2.0
PRODID:-//Stadtgeschichte München//DE
CALSCALE:GREGORIAN
BEGIN:VEVENT
UID:23302@stadtgeschichte-muenchen.de
SUMMARY:Flucht und Versteck
DESCRIPTION:&lt;p&gt;Ende März 1943 wurde das Internierungslager München-Berg am Laim geschlossen. Innerhalb 20 Monaten waren nahezu 500 Juden von da deportiert und ermordet worden. Manche entzogen sich der Deportation durch Suizid, nur wenige überlebten die Verfolgung, indem es ihnen gelang, unterzutauchen, sich zu verstecken oder zu fliehen. Doch wie war es möglich, dass einige Jüdinnen und Juden das Lager 1943 unbehelligt verlassen konnten. Wir erinnern in diesem Jahr auch an die, die sich der Verfolgung entziehen konnten, und ihre Helfer*innen. Welche Wege gingen sie nach Kriegsende?&lt;/p&gt; &lt;p&gt;Musikbegleitung: Streichquartett Musai&lt;/p&gt; &lt;p&gt;Nach der Veranstaltung Lichtergang zum Mahnmal.&lt;/p&gt; &lt;p&gt;In Zusammenarbeit mit der Friedensgemeinschaft Berg am Laim: Bürgerkreis Berg am Laim e.V., Evang.–Luth. Kirchengemeinde Sophie Scholl, Trägerverein Kulturbürgerhaus und Bezirksausschuss 14 Berg am Laim.&lt;/p&gt; 
DTSTART:20231106T190000
DTEND:20231106T210000
LOCATION:lten- und Pflegeheim der Barmherzigen Schwestern vom Hl. Vinzenz von Paul St.-Michael-Str. 16
ORGANIZER:MVHS
END:VEVENT
END:VCALENDAR