BEGIN:VCALENDAR
VERSION:2.0
PRODID:-//Stadtgeschichte München//DE
CALSCALE:GREGORIAN
BEGIN:VEVENT
UID:23306@stadtgeschichte-muenchen.de
SUMMARY:Giesinger Gespräche: Radl-Lust und –Frust in Ober- und Untergiesing
DESCRIPTION:&lt;p&gt;Mit dem Radentscheid für eine bessere Fahrrad-Infrastruktur 2019 ist der Radverkehr zu einem verkehrspolitischen Top-Thema geworden. Während es vielen Radfahrenden in München immer noch viel zu langsam vorangeht, ärgern sich andere über die Vorrangspolitik für das Fahrrad. Mit den Planungen für eine Fuß- und Radwegbrücke über den Giesinger Berg rückt Giesing in der radpolitischen Debatte derzeit in den Fokus, zumal das Projekt mit dem Konzept einer BI konkurriert, einen Giesinger Kirchplatz zu realisieren. Auch über diese Projekte hinaus wird an diesem Abend darüber diskutiert, wie fahrradfreundlich ist Giesing bereits und wie fahrradfreundlich kann und soll es noch werden?&lt;/p&gt; &lt;p&gt;In Zusammenarbeit mit dem Verein der Freunde Giesings e.V.&lt;/p&gt; 
DTSTART:20231127T190000
DTEND:20231127T210000
LOCATION:Stadtteilkulturzentrum Giesinger Bahnhofplatz 1
ORGANIZER:MVHS
END:VEVENT
END:VCALENDAR