BEGIN:VCALENDAR
VERSION:2.0
PRODID:-//Stadtgeschichte München//DE
CALSCALE:GREGORIAN
BEGIN:VEVENT
UID:23313@stadtgeschichte-muenchen.de
SUMMARY:Aus dem Arbeitsalltag eines Stadtjägers
DESCRIPTION:&lt;p&gt;Ein erfahrener Jäger führt Sie in grundlegende Hintergründe der Stadtjagd ein. Anhand von Beispielen aus seinen Einsatzgebieten im Münchner Osten reflektiert er die Herausforderungen, die sich durch die Konfrontation von Mensch und Tier ergeben, insbesondere in Situationen, die mit der Entstehung neuer Siedlungsgebiete am Stadtrand zustande kommen. Er gewährt Einblicke in seinen Berufsalltag, in das Zusammenspiel zwischen behördlichen Vorgaben, seinen Aufgaben und Pflichten. Thematisiert werden auch Einsätze, bei denen er von der Polizei um Unterstützung gebeten wird.&lt;/p&gt; 
DTSTART:20231113T180000
DTEND:20231113T193000
LOCATION:MVHS in Ramersdorf Claudius-Keller-Str. 7
ORGANIZER:MVHS
END:VEVENT
END:VCALENDAR