BEGIN:VCALENDAR
VERSION:2.0
PRODID:-//Stadtgeschichte München//DE
CALSCALE:GREGORIAN
BEGIN:VEVENT
UID:23319@stadtgeschichte-muenchen.de
SUMMARY:Mit dem Adventskalender zu Fuß durch Bogenhausen
DESCRIPTION:&lt;p&gt;Wissen Sie, was sich hinter dem Frautragen verbirgt? Einer der Weihnachtsbräuche, denen Teilnehmende dieses Stadtviertelspaziergangs mit Hilfe des Adventskalenders auf die Schliche kommen können. Türchen für Türchen führt der Weg immer ein Stück weiter zu vielen Heiligen oder auch unheiligen Ahnen christlichen Brauchtums, wie Barbara, Nikolaus, Krampus oder der Schiachen Luz. Wenn Sie dann auch die Hintergründe magischer Riten, eigenartiger Sitten, Rezepte, Gesänge und Gebete erfahren, können Sie gelassen der Adventszeit entgegengehen oder -sehen.&lt;/p&gt; 
DTSTART:20231203T140000
DTEND:20231203T160000
LOCATION:Prinzregentenplatz, am Brunnen Prinzregentenplatz 12
ORGANIZER:MVHS
END:VEVENT
END:VCALENDAR