BEGIN:VCALENDAR
VERSION:2.0
PRODID:-//Stadtgeschichte München//DE
CALSCALE:GREGORIAN
BEGIN:VEVENT
UID:23320@stadtgeschichte-muenchen.de
SUMMARY:Strassen, Stars und Sterne in Bogenhausen
DESCRIPTION:&lt;p&gt;Wo die Strassen neben berühmten Künstlern auch nach Astronomen heissen, muss viel Energie fliessen. Warum werden hauptsächlich Herren ausgewählt, beispielsweise Laplace und Lamont. Die Künstler, die am Wege wohnten und zum Teil auf dem Bogenhausener Friedhof begraben sind, ihre Freunde und Gäste &quot;im Salon&quot; bieten reichlich Erzählstoff: legendäre Aufführungen des Prinzregententheaters und immer wieder die Wirkung der Sterne auf der Erde. Astrologie oder Astronomie? Wir lösen diese Frage auf diesem sternenträchtigen Spaziergang.&lt;/p&gt; &lt;p&gt;&lt;a href=&quot;https://www.mvhs.de/kurse/muenchen-unsere-stadt/muenchen-umgebung-entdecken/muenchen-heute-stadtviertel-entdecken/muenchner-osten/strassen-stars-und-sterne-in-bogenhausen/prinzregentenplatz-universitaets-sternwarte-bogenhauser-friedhof-460-C-R123726#&quot;&gt;&amp;nbsp; Kurs in den Warenkorb legen&lt;/a&gt;&lt;/p&gt; &lt;p&gt;&amp;nbsp;&lt;/p&gt; &lt;ul&gt; &lt;/ul&gt; 
DTSTART:20240218T110000
DTEND:20240218T130000
LOCATION:Prinzregentenplatz, am Brunnen Prinzregentenplatz 12
ORGANIZER:MVHS
END:VEVENT
END:VCALENDAR