BEGIN:VCALENDAR
VERSION:2.0
PRODID:-//Stadtgeschichte München//DE
CALSCALE:GREGORIAN
BEGIN:VEVENT
UID:23321@stadtgeschichte-muenchen.de
SUMMARY:München bei Nacht
DESCRIPTION:&lt;p&gt;Begleiten Sie die Kunsthistorikerin Ursula Simon-Schuster vom Sankt-Jakobs-Platz mit Stadtmuseum, Jüdischem Zentrum und Synagoge über den Viktualienmarkt ins Tal. Historische Gebäude und moderne Architektur erzählen spannende Geschichten von Bauherr*innen und Bewohner*innen. Bei unserem Nachtwalk sehen wir auch interessante Lokale, Bars und Treffpunkte. Sie bekommen Ausgehtipps, Ideen für den nächsten Nachtausflug und weitere Stadterkundungen. Ein Lokalbesuch z.B. in der &quot;Weiberwirtschaft&quot; beschließt den Rundgang.&lt;/p&gt; 
DTSTART:20231016T183000
DTEND:20231016T203000
LOCATION:Eingang Stadtcafé St.-Jakobs-Platz 1
ORGANIZER:MVHS
END:VEVENT
END:VCALENDAR