BEGIN:VCALENDAR
VERSION:2.0
PRODID:-//Stadtgeschichte München//DE
CALSCALE:GREGORIAN
BEGIN:VEVENT
UID:23322@stadtgeschichte-muenchen.de
SUMMARY:Passagen, Höfe und Gärten
DESCRIPTION:&lt;p&gt;In Begleitung einer Kunsthistorikerin führen uns kreative Wege zu einigen besonders schönen Orten, die nicht jede/r kennt. Wir besuchen historische und moderne Höfe, versteckte Gassen und Passagen in der Innenstadt. Neben bedeutenden Kunstwerken und außergewöhnlichen Architekturen finden wir grüne Oasen mitten in München. Uns begegnen Wirtshausgärten, Innenhöfe ehemaliger Adelspalais, innovative Passagen - mit verführerischen Geschäften - und vieles mehr.&lt;/p&gt; &lt;p&gt;&amp;nbsp;&lt;/p&gt; &lt;ul&gt; &lt;/ul&gt; 
DTSTART:20231018T160000
DTEND:20231018T180000
LOCATION:Asamkirche, vor dem Eingang Sendlinger Str. 32
ORGANIZER:MVHS
END:VEVENT
END:VCALENDAR