BEGIN:VCALENDAR
VERSION:2.0
PRODID:-//Stadtgeschichte München//DE
CALSCALE:GREGORIAN
BEGIN:VEVENT
UID:23329@stadtgeschichte-muenchen.de
SUMMARY:Entlang der Tegernseer Landstraße durch Vergangenheit und Gegenwart
DESCRIPTION:&lt;p&gt;Die TeLa ist die Hauptverkehrsader Obergiesings und gleichzeitg Einkaufsstraße für Anwohner und Auswärtige. Altes und Neues trifft hier bunt aufeinander: der neu gestaltete Edelweißplatz, wo jetzt der &quot;schräge Mahagoni&quot; quer liegt, und der angrenzende Alpenplatz, die ensemblegeschütze Feldmüllersiedlung, die wechselvolle Geschichte des ehemaligen Kaufhauses &quot;Kepa&quot;, die stilbildende Architektur der Tela-Post, die Geschichtssäule zum Gedenken an die Revolution im Jahr 1919. Endstation: der Grünspitz, mit Blick auf das &quot;Sechz\'ger Stadion&quot;, wo das runde Leder immer noch rollt.&lt;/p&gt; &lt;p&gt;&amp;nbsp;&lt;/p&gt; &lt;p&gt;&amp;nbsp;&lt;/p&gt; &lt;ul&gt; &lt;/ul&gt; 
DTSTART:20231013T140000
DTEND:20231013T160000
LOCATION:vor dem Ärztehaus St.-Bonifatius-Str. 5
ORGANIZER:MVHS
END:VEVENT
END:VCALENDAR