BEGIN:VCALENDAR
VERSION:2.0
PRODID:-//Stadtgeschichte München//DE
CALSCALE:GREGORIAN
BEGIN:VEVENT
UID:23350@stadtgeschichte-muenchen.de
SUMMARY:Besichtigung des Straßenunterhaltsbezirks Süd
DESCRIPTION:&lt;p&gt;Vom Schlagloch bis zum Winterdienst: Der Straßenunterhaltsbezirk Süd sorgt für intakte und verkehrssichere Straßen, Fahrrad- und Gehwege im Münchner Süden. Bei dieser Besichtigung lernen Sie den Straßenunterhaltsbezirk mit seinen Aufgaben und seinen Arbeiten zur Gewährleistung der Verkehrssicherheit kennen. Sie erfahren, wie der Winterdienst organisiert wird und wie früh die Mitarbeitenden unterwegs sind, um unsere Straßen und Wege schnee- und eisfrei zu halten.&lt;/p&gt; &lt;p&gt;In Kooperation mit dem Baureferat.&lt;/p&gt; 
DTSTART:20231115T100000
DTEND:20231115T120000
LOCATION:Straßenunterhaltsbezirk Süd Geretsrieder Str. 9
ORGANIZER:MVHS
END:VEVENT
END:VCALENDAR