BEGIN:VCALENDAR
VERSION:2.0
PRODID:-//Stadtgeschichte München//DE
CALSCALE:GREGORIAN
BEGIN:VEVENT
UID:23355@stadtgeschichte-muenchen.de
SUMMARY:Das Institut für Schlaganfall- und Demenzforschung
DESCRIPTION:&lt;p&gt;Im Alter klagen manche Menschen über Gedächtnisprobleme. Nicht immer handelt es sich &quot;nur&quot; um altersbedingte Vergesslichkeit - oft sind solche Beschwerden auch Ausdruck einer Erkrankung. Je früher die Erkennung und Behandlung ansetzt, umso besser. In der Schlaganfallpräventions- und Gedächtnisambulanz des ISD arbeitet ein interdisziplinäres Team aus den Bereichen Neuropsychologie, Sozialarbeit und Studienassistenz sowie ärztlichem Fachpersonal eng zusammen. Die Veranstaltung informiert über die Angebote des Instituts und der Gedächtnisambulanz.&lt;/p&gt; 
DTSTART:20231116T150000
DTEND:20231116T160000
LOCATION:Institut für Schlaganfall- und Demenzforschung Feodor-Lynen-Str. 17
ORGANIZER:MVHS
END:VEVENT
END:VCALENDAR