BEGIN:VCALENDAR
VERSION:2.0
PRODID:-//Stadtgeschichte München//DE
CALSCALE:GREGORIAN
BEGIN:VEVENT
UID:23357@stadtgeschichte-muenchen.de
SUMMARY:Der Arbeit auf der Spur
DESCRIPTION:&lt;p&gt;Im Archivdepot des Archivs der Münchner Arbeiterbewegung e. V. werden seit 1987 Papierakten, Briefe, Lebenserinnerungen, Fotografien, Alltagsobjekte und vieles mehr zusammengetragen, um den früheren Alltag der arbeitenden Bevölkerung Münchens zu dokumentieren und wertvolle Zeitzeugnisse zu bewahren. In den langen Regalreihen findet sich auch die Geschichte der Münchner Arbeiterbewegung, der Industriekultur sowie neuer sozialer Bewegungen. Die Führung stellt Entstehung, Aufgabe und Schwerpunkte des Archivs sowie die Arbeit der Archivare vor.&lt;/p&gt; 
DTSTART:20231213T170000
DTEND:20231213T183000
LOCATION:Archiv der Münchner Arbeiterbewegung e.V. Haderunstr. 4
ORGANIZER:MVHS
END:VEVENT
END:VCALENDAR