BEGIN:VCALENDAR
VERSION:2.0
PRODID:-//Stadtgeschichte München//DE
CALSCALE:GREGORIAN
BEGIN:VEVENT
UID:23382@stadtgeschichte-muenchen.de
SUMMARY:Besuch bei der Polizeiinspektion Neuhausen
DESCRIPTION:&lt;p&gt;Der Schutzbereich der Polizeiinspektion 42, Neuhausen, umfasst die Stadtbezirke Neuhausen, Nymphenburg, Gern sowie die westliche Maxvorstadt. Bei unserem Besuch erhalten Sie Informationen über die Polizeiarbeit aus erster Hand. Die Kontaktbeamten der Polizeiinspektion 42 informieren in ihrem Vortrag: &quot;... spricht da wirklich die Polizei? - Ihre Münchner Polizei rät: Vorsicht vor falschen Polizisten&quot; über aktuelle Erscheinungsformen des sogenannten Callcenter-Betrugs.&lt;/p&gt; &lt;p&gt;Ein gültiger Personalausweis ist bei der Führung unbedingt erforderlich.&lt;/p&gt; 
DTSTART:20231120T150000
DTEND:20231120T170000
LOCATION:Polizeiinspektion 42 Landshuter Allee 38
ORGANIZER:MVHS
END:VEVENT
END:VCALENDAR