BEGIN:VCALENDAR
VERSION:2.0
PRODID:-//Stadtgeschichte München//DE
CALSCALE:GREGORIAN
BEGIN:VEVENT
UID:23385@stadtgeschichte-muenchen.de
SUMMARY:Die Nymphenburger Straße
DESCRIPTION:&lt;p&gt;Als &quot;Fürstenweg&quot; war die Nymphenburger Straße eine wichtige Verbindung zwischen Residenz und Schloß Nymphenburg, schon bevor sie unter König Ludwig I. mit den Propyläen ein erstes repräsentatives Bauwerk erhielt. Den Anfang der Nymphenburger Straße prägten bis in die Gegenwart die Gebäude der Löwenbrauerei. Von der ursprünglich klassizistischen Bebauung ist fast nichts erhalten. Ihr folgten noble Wohnhäuser des Historismus und des Jugendstils, die teilweise in den Seitenstraßen noch zu sehen sind. Gaststätten und Kinos belebten die verkehrsreiche Straße, die wir erkunden.&lt;/p&gt; 
DTSTART:20231111T140000
DTEND:20231111T160000
LOCATION:beim Haupteingang vom Kaufhof Rotkreuzplatz
ORGANIZER:MVHS
END:VEVENT
END:VCALENDAR