BEGIN:VCALENDAR
VERSION:2.0
PRODID:-//Stadtgeschichte München//DE
CALSCALE:GREGORIAN
BEGIN:VEVENT
UID:23406@stadtgeschichte-muenchen.de
SUMMARY:Richard Strauss in München
DESCRIPTION:&lt;p&gt;Richard Strauss gehört ohne Zweifel zu den berühmtesten Söhnen der Stadt München. Freuen Sie sich auf eine Begegnung mit dem großen Komponisten und entdecken Sie die Strauss-Orte in der Münchner Altstadt.&lt;/p&gt; &lt;p&gt;&lt;strong&gt;Musikalisches für Augen und Ohren&lt;/strong&gt;&lt;/p&gt; &lt;p&gt;Unsere Spurensuche führt uns an ungewöhnliche Orte. Erfahren Sie, warum ein Münchner Parkhaus musikalische Geschichte erzählt und hören Sie von der überraschenden Vergangenheit eines asiatischen Luxushotels. Entdecken Sie ein altes Adelspalais, einen „skandalösen“ Brunnen in der Fußgängerzone und einen versteckten Ort, an dem Musikgeschichte geschrieben wurde.&lt;/p&gt; &lt;p&gt;28 Jahre lang lebte Richard Strauss in München, in dieser Zeit komponierte er einige seiner bekanntesten Werke. Als Dirigent brachte er es zum Ersten Hofkapellmeister am Königlichen Hof- und Nationaltheater. Auf diesem Rundgang erfahren Sie, wo Richard Strauss lebte, arbeitete und wirkte. Seine Heimatstadt verließ er im Groll – und blieb ihr doch ein Leben lang eng verbunden.&lt;/p&gt; &lt;p&gt;&amp;nbsp;&lt;/p&gt; 
DTSTART:20240119T150000
DTEND:20240119T163000
LOCATION:Vor der Kirche St. Michael, Neuhauserstraße
ORGANIZER:Münchner Musikspaziergänge
END:VEVENT
END:VCALENDAR