BEGIN:VCALENDAR
VERSION:2.0
PRODID:-//Stadtgeschichte München//DE
CALSCALE:GREGORIAN
BEGIN:VEVENT
UID:23413@stadtgeschichte-muenchen.de
SUMMARY:Freiham - Zukunftsweisende Stadtentwicklung?
DESCRIPTION:&lt;p&gt;Noch prägen vor allem riesige Baustellen das neue Quartier Freiham. Doch hinter den Neubau-Fassaden nimmt die städtische Planungsvorgabe Gestalt an: der neue Stadtteil soll ökologisch und nachhaltig entwickelt werden. Welche Konzepte für soziales Zusammenleben, Mobilität und Versorgung spiegeln diese Vorgaben wider? Welche Rolle spielen hierbei Klimaschutz und Klimagerechtigkeit? Von welchen Projekten kann auch die Nachbarschaft profitieren? Diese und andere Fragen können Sie an kleinen Tischgruppen nach dem Impulsvortrag direkt mit den Gästen diskutieren. In Kooperation mit dem Kulturzentrum ubo9 und dem Stadtteilmanagement Freiham der MGS Münchner Gesellschaft für Stadterneuerung mbH.&lt;/p&gt; &lt;p&gt;Impulsreferat:&lt;br /&gt; Christian Stupka, Mitgründer der WOGENO und Projektentwicklung Eggarten-Siedlung&lt;/p&gt; &lt;p&gt;Gäste:&lt;br /&gt; Fatima Barhmi, Kulturdolmetscherin und Projektleiterin FiBiuS Frauen in Bewegung in Freiham&lt;br /&gt; Maria Graf, Sandra Müller, Projektleitung und Leitung Planungsteam Freiham, Referat für Stadtplanung und Bauordnung, Landeshauptstadt München&lt;br /&gt; Julia Irländer, Feierwerk e.V.&lt;/p&gt; &lt;p&gt;Nasim Motamedi, Simon Scholl, Die Wertschöpferei, solidarische Landwirtschaft Freiham&lt;/p&gt; &lt;p&gt;Felizitas Mussenbrock-Strauß, Kommunikation, Mitglieder- und Öffentlichkeitsarbeit, Progeno Wohnungsgenossenschaft eG&lt;/p&gt; &lt;p&gt;Reinhold Petrich, Stadtteilmanagement Freiham der MGS Münchner Gesellschaft für Stadterneuerung mbH&lt;/p&gt; 
DTSTART:20231026T190000
DTEND:20231026T213000
LOCATION: World Café
ORGANIZER:MVHS
END:VEVENT
END:VCALENDAR