BEGIN:VCALENDAR
VERSION:2.0
PRODID:-//Stadtgeschichte München//DE
CALSCALE:GREGORIAN
BEGIN:VEVENT
UID:23433@stadtgeschichte-muenchen.de
SUMMARY:Zuhause im Café – der Guide
DESCRIPTION:
DTSTART:20231113T183000
DTEND:20231113T200000
LOCATION:Fausto Kaffeerösterei, Birkenleiten 43, 81543 München
ORGANIZER:Volk Verlag
END:VEVENT
END:VCALENDAR