BEGIN:VCALENDAR
VERSION:2.0
PRODID:-//Stadtgeschichte München//DE
CALSCALE:GREGORIAN
BEGIN:VEVENT
UID:23434@stadtgeschichte-muenchen.de
SUMMARY:KopfSpiel; Erkundungen in der Messestadt Riem
DESCRIPTION:&lt;p&gt;Los geht es bei der &quot;Riem-Reibe&quot;, dem Kunstwerk an der U-Bahn. Der Willy-Brandt-Platz gilt bis heute als städtebaulich &quot;schwieriges Pflaster&quot; auch wenn es bereits verschiedene Maßnahmen gab, um diesen aufzuwerten. Ins Auge fällt der gewaltige Porticus. Beim ökumenischen Kirchenzentrum am Platz der Menschenrechte erhalten Sie eine Einführung in architektonische Besonderheiten, denn die katholische Kirche St. Florian und die evangelische Sophienkirche teilen sich Turm, Geläut, Innenhöfe und Gassen. Ziel ist der Kopfbau der ehemaligen Flughafentribünen.&lt;/p&gt; 
DTSTART:20231125T140000
DTEND:20231125T170000
LOCATION: U-Bahn-Haltestelle Messestadt West, am Treppenaufgang oben Willy-Brandt-Platz
ORGANIZER:MVHS
END:VEVENT
END:VCALENDAR