BEGIN:VCALENDAR
VERSION:2.0
PRODID:-//Stadtgeschichte München//DE
CALSCALE:GREGORIAN
BEGIN:VEVENT
UID:23435@stadtgeschichte-muenchen.de
SUMMARY:1923: Ein Jahr in 23 Bildern, 16. Novmeber 2023
DESCRIPTION:&lt;p&gt;Das Jahr 1923 gilt, vollkommen zu Recht, in der deutschen Geschichte als der Inbegriff des „Krisenjahres“. Die noch junge Weimarer Republik wurde mit einer Fülle schwerster Belastungen und Angriffe konfrontiert, die sie nur mit äußerster Not zu bewältigen vermochte. Ein Kaleidoskop von ausgewählten zeitgenössischen Bildern und deren Einordnung sollen einen kurzen Überblick über diese bewegte Zeit bieten.&lt;/p&gt; &lt;p&gt;Vortrag Bernward Anton, promovierter Historiker&lt;/p&gt; 
DTSTART:20231116T190000
DTEND:20231116T203000
LOCATION:Seidlvilla, Nikolaiplatz 1b
ORGANIZER:Archiv der Münchner Arbeiterbewegung e.V.
END:VEVENT
END:VCALENDAR