BEGIN:VCALENDAR
VERSION:2.0
PRODID:-//Stadtgeschichte München//DE
CALSCALE:GREGORIAN
BEGIN:VEVENT
UID:23438@stadtgeschichte-muenchen.de
SUMMARY:Erinnerungszeichen Treumann &amp; Flaschner
DESCRIPTION:&lt;pre&gt; &lt;code&gt;Übergabe der Erinnerungszeichen für Therese Treumann und Doris, Heinrich und Dr. Max Flaschner in der Haimhauser Straße 2. Die Übergabe des Erinnerungszeichens beginnt um 16.00 Uhr. Zuvor, um 15:00 Uhr findet eine Gedenkveranstaltung in der Seidlvilla statt. Bitte beachten Sie die Hinweise auf Seiten des Veranstalters www.erinnerungszeichen.de &lt;/code&gt;&lt;/pre&gt; 
DTSTART:20231116T150000
DTEND:20231116T163000
LOCATION:Seidlvilla e.V., Nikolaiplatz 1b
ORGANIZER:Landeshauptstadt München
END:VEVENT
END:VCALENDAR