BEGIN:VCALENDAR
VERSION:2.0
PRODID:-//Stadtgeschichte München//DE
CALSCALE:GREGORIAN
BEGIN:VEVENT
UID:23439@stadtgeschichte-muenchen.de
SUMMARY:Auf dem Weg zu einer Diakoniekirche
DESCRIPTION:&lt;p&gt;Wir laden Sie ein: Einfach mal raus und los geht´s! am&amp;nbsp;&lt;strong&gt;21.November 2023&lt;/strong&gt;&amp;nbsp;ab 15.30 Uhr&lt;br /&gt; Neuen Schwung gewinnen.&lt;br /&gt; Zwischen Treffpunkt und Ziel liegen 90 – 100 Minuten frische Luft, entspannte Bewegung und Begegnung.&lt;br /&gt; Ein Gastgeher zeigt Ihnen seine Lieblingsstrecke in München.&lt;br /&gt; Am Ziel wartet eine kleine Erfrischung auf Sie&lt;br /&gt; &lt;br /&gt; Im November steht unser Spaziergang unter dem Thema:&amp;nbsp;&lt;strong&gt;„Auf dem Weg zu einer Diakoniekirche - ein Spaziergang rund um die Evangeliumskirche&lt;/strong&gt;“ mit&amp;nbsp;&lt;strong&gt;Gastgeherin Pfarrerin Sophie Schuster&lt;/strong&gt;, inhaltlich Verantwortliche für die bald öffnende Diakoniekirche im Hasenbergl (Evangeliumskirche).&lt;br /&gt; &lt;br /&gt; Lassen Sie uns einen kleinen Spaziergang rund um die Evangeliumskirche im Stadtteil Hasenbergl machen. Hier verändert sich Evangelische Kirche in einer sich verändernden Welt sehr. Diese Veränderungen gestalten wir hier vor Ort mit. Wir werden an Baustellen vorbeikommen und an Einrichtungen der Diakonie Hasenbergl. Außerdem drehen wir eine Runde durch die neuen Räume in der Evangeliumskirche.&lt;br /&gt; &amp;nbsp;&lt;/p&gt; 
DTSTART:20231121T153000
DTEND:20231121T173000
LOCATION:vor der Evangeliumskirche, Stanigplatz 11, 80933 München
ORGANIZER:Evangelisches Bildungswerk e.V.
END:VEVENT
END:VCALENDAR