BEGIN:VCALENDAR
VERSION:2.0
PRODID:-//Stadtgeschichte München//DE
CALSCALE:GREGORIAN
BEGIN:VEVENT
UID:23443@stadtgeschichte-muenchen.de
SUMMARY:Der Hitlerputsch 1923 
DESCRIPTION:&lt;p&gt;Am 8. November 1923 versuchten rechtsextremistische Organisationen unter Führung Adolf Hitlers und seiner NSDAP im Münchner Bürgerbräukeller, die politische Ordnung der Weimarer Republik zu stürzen. Münchner Polizisten, teils aus der obersten Führungsetage, unterstützten die Putschisten hierbei teilweise massiv. Letztendlich scheiterte der Putsch an der Feldherrnhalle, als der Marsch von der Bayerischen Landespolizei gestoppt wurde. Bereits seit 1919 trat die Münchner Polizei und hierbei insbesondere die Behördenleitung als Förderer der Rechtsextremisten in München und der Nationalsozialisten in Erscheinung. Im Vortrag wird versucht, die Haltung einzelner Beamter und der Münchner Polizei darzulegen.&lt;/p&gt; 
DTSTART:20231128T190000
DTEND:20231128T000020
LOCATION:Kloster Fürstenfeld, Churfürstensaal, Zugang  über die Pforte der Polizei, Fürstenfelder Str. 29
ORGANIZER:
END:VEVENT
END:VCALENDAR