BEGIN:VCALENDAR
VERSION:2.0
PRODID:-//Stadtgeschichte München//DE
CALSCALE:GREGORIAN
BEGIN:VEVENT
UID:23489@stadtgeschichte-muenchen.de
SUMMARY:&quot;Vive Bordeaux, vive Münich&quot;
DESCRIPTION:&lt;p&gt;Dr. Daniel Baumann und Anton Löffelmeier M.A. geben Einblick in die Akten- und Sammlungsüberlieferung zu 60 Jahre Städtepartnerschaft Bordeaux - München.&lt;/p&gt; 
DTSTART:20240611T183000
DTEND:20240611T193000
LOCATION:Winzererstraße 68
ORGANIZER:Staatsarchiv München
END:VEVENT
END:VCALENDAR