BEGIN:VCALENDAR
VERSION:2.0
PRODID:-//Stadtgeschichte München//DE
CALSCALE:GREGORIAN
BEGIN:VEVENT
UID:23492@stadtgeschichte-muenchen.de
SUMMARY:Erinnerungszeichen für Olga Maier
DESCRIPTION:&lt;p&gt;&lt;strong&gt;Erinnerungszeichen&amp;nbsp;&lt;/strong&gt;für Olga Maier&amp;nbsp;ab 15 Uhr im NS-Dokuzentrum, um 16 Uhr Arcostraße 1.&amp;nbsp;&lt;br /&gt; Um 17 Uhr Empfang im Jüdischen Museum.&lt;/p&gt; 
DTSTART:20240111T150000
DTEND:20240111T161500
LOCATION:NS-Dokumentationszentrum München Max-Mannheimer-Platz 1
ORGANIZER:Public History München
END:VEVENT
END:VCALENDAR