BEGIN:VCALENDAR
VERSION:2.0
PRODID:-//Stadtgeschichte München//DE
CALSCALE:GREGORIAN
BEGIN:VEVENT
UID:23495@stadtgeschichte-muenchen.de
SUMMARY:„Faces for the Names” in München-Schwabing
DESCRIPTION:&lt;p&gt;Am 11. Dezember 2023 findet vor der Georgenstraße 118 und der Isabellastraße 17 die Veranstaltung „Faces for the Names“ statt. Dabei werden unter Federführung der Jews Engaged With Society (J.E.W.S.) und unter der Schirmherrschaft des Bezirksausschusses Schwabing-West Bilder von NS-Opfern an die Häuserwände projiziert. Terry Swartzberg, Vorsitzender der Initiative Stolpersteine in München und Initiator von „Faces for the Names“: „Die Gedenkveranstaltung soll den Opfern ein Gesicht geben und sicherstellen, dass deren Schicksal nicht nur eine Zahl in den Geschichtsbüchern ist. Wir bedanken uns bei Vonovia für jegliche Unterstützung im zurückliegenden Jahr.“ Start der Veranstaltung ist um 19 Uhr vor der Georgenstraße 118 in München-Schwabing.&lt;/p&gt; 
DTSTART:20231211T190000
DTEND:20231211T200000
LOCATION:Georgenstraße 118
ORGANIZER:
END:VEVENT
END:VCALENDAR