BEGIN:VCALENDAR
VERSION:2.0
PRODID:-//Stadtgeschichte München//DE
CALSCALE:GREGORIAN
BEGIN:VEVENT
UID:23502@stadtgeschichte-muenchen.de
SUMMARY:Schwierige Erinnerung
DESCRIPTION:&lt;p&gt;Grußworte&lt;br /&gt; Bürgermeister Dominik Krause&lt;br /&gt; Claudia Roth&lt;br /&gt; Staatsministerin für Kultur und Medien&lt;/p&gt; &lt;p&gt;Es sprechen&lt;br /&gt; Dr. Jörg Ufer, Angehöriger von Corinna Tartarotti&lt;br /&gt; Lina Dahm, Journalistin&lt;br /&gt; Prof. Dr. Tanja Thomas, Universität Tübingen&lt;br /&gt; Volker Weiß,&amp;nbsp;Rechtsextremismusexperte&lt;br /&gt; Nina Stern, Antisexistische Aktion München&lt;/p&gt; &lt;p&gt;Moderation&lt;br /&gt; Annette Ramelsberger, Süddeutsche Zeitun&lt;/p&gt; 
DTSTART:20240107T113000
DTEND:20240107T123000
LOCATION:Altes Rathaus Marienplatz 15
ORGANIZER:Kulturreferat der Landeshauptstadt München
END:VEVENT
END:VCALENDAR