BEGIN:VCALENDAR
VERSION:2.0
PRODID:-//Stadtgeschichte München//DE
CALSCALE:GREGORIAN
BEGIN:VEVENT
UID:23505@stadtgeschichte-muenchen.de
SUMMARY:Erinnerungskultur in Gefahr 
DESCRIPTION:&lt;p&gt;Die Angriffe der Rechten auf die Erinnerungskultur in Deutsch­land und Italien nehmen immer weiter zu, seien sie politisch oder auch gewalttätig. Die DGB ­Jugend München und Gewerkschafter*innen aus Italien möchten in einer gemeinsamen Diskussion Antworten auf die aktuellen Attacken finden.&lt;/p&gt; 
DTSTART:20240107T130000
DTEND:20240107T150000
LOCATION:Jugendraum des Gewerkschaftshauses, Neumarkterstr. 22
ORGANIZER:
END:VEVENT
END:VCALENDAR