BEGIN:VCALENDAR
VERSION:2.0
PRODID:-//Stadtgeschichte München//DE
CALSCALE:GREGORIAN
BEGIN:VEVENT
UID:2367@stadtgeschichte-muenchen.de
SUMMARY:Liebe, Lust und Leidenschaft
DESCRIPTION:&lt;div&gt;Begegnen Sie leidenschaftlichen Aff&amp;auml;ren mit tragischem Ausgang, k&amp;ouml;niglicher Liebe und gro&amp;szlig;en Romanzen. Lassen Sie sich verf&amp;uuml;hren von glamour&amp;ouml;senAmouren und erotischen Abenteuern.&lt;/div&gt;
DTSTART:20120729T140000
DTEND:20120729T000000
LOCATION:Julia-Statue beim Alten Rathaus
ORGANIZER:STATTreisen München e.V.
END:VEVENT
END:VCALENDAR