BEGIN:VCALENDAR
VERSION:2.0
PRODID:-//Stadtgeschichte München//DE
CALSCALE:GREGORIAN
BEGIN:VEVENT
UID:23835@stadtgeschichte-muenchen.de
SUMMARY:Wolkensäle und Palmenwälder
DESCRIPTION:&lt;p&gt;Im Fasching gingen der Kurfürst und die Kurfürstin als Indianer, der Hofratspräsident mimte einen Kaminkehrer und das Salvatortheater, ein umgebauter „Haberkasten“, wurde zum Ballsaal. Hier brillierte etwa der große Farinelli – und mit Agostino Steffani ein weiterer Kastrat, der später Bischof wurde.&lt;/p&gt; 
DTSTART:20240205T190000
DTEND:20240205T203000
LOCATION:Barocksaal des Deutschen Theaters, Schwanthaler Str. 13
ORGANIZER:
END:VEVENT
END:VCALENDAR