BEGIN:VCALENDAR
VERSION:2.0
PRODID:-//Stadtgeschichte München//DE
CALSCALE:GREGORIAN
BEGIN:VEVENT
UID:23905@stadtgeschichte-muenchen.de
SUMMARY:“Mei is des a Kreiz”
DESCRIPTION:&lt;p&gt;„Berge von unten, Kirchen von außen, Wirtshäuser von innen“. So lautet ein alter bayerischen Spruch. Wir steigen auf den Giesinger Berg, besichtigen die Lutherkirche und die Heilig-Kreuz-Kirche und überlegen, was die bayerische Wirtshauskultur und der evangelische Kirchenkaffee gemeinsam haben&lt;br /&gt; &amp;nbsp;&lt;/p&gt; 
DTSTART:20240113T140000
DTEND:20240113T160000
LOCATION:wird nach der Anmeldung bekanntgegeben.
ORGANIZER:Evangelisches Bildungswerk e.V.
END:VEVENT
END:VCALENDAR