BEGIN:VCALENDAR
VERSION:2.0
PRODID:-//Stadtgeschichte München//DE
CALSCALE:GREGORIAN
BEGIN:VEVENT
UID:23932@stadtgeschichte-muenchen.de
SUMMARY:Besuch beim Bundesfinanzhof
DESCRIPTION:&lt;p&gt;Das imposante Gebäude in der Ismaninger Str. 109, bekannt als Fleischerschlösschen, kann aufwarten mit einer wechselvollen Geschichte. Es ist Sitz des Bundesfinanzhofs, des obersten Gerichts für Steuer- und Zollangelegenheiten. In einem Vortrag, verbunden mit einem Rundgang, erfahren wir mehr über die Aufgaben dieser Institution, über bedeutende Personen und Ereignisse.&lt;br /&gt; &lt;br /&gt; Zu beachten:&lt;br /&gt; Bitte bringen Sie Ihren Personalausweis oder Reisepass mit.&lt;br /&gt; Aus Sicherheitsgründen dürfen größere Gepäckstücke (z.B. Rucksäcke), Metall- oder Glasgegenstände nicht mitgeführt werden (im Eingangsbereich steht eine begrenzte Anzahl von Schließfächern zur Verfügung).&lt;/p&gt; 
DTSTART:20240116T140000
DTEND:20240116T150000
LOCATION:Anmeldeschluss: 09.01.2024
ORGANIZER:DGB-Bildungswerk Bayern e.V. Region München
END:VEVENT
END:VCALENDAR