BEGIN:VCALENDAR
VERSION:2.0
PRODID:-//Stadtgeschichte München//DE
CALSCALE:GREGORIAN
BEGIN:VEVENT
UID:23942@stadtgeschichte-muenchen.de
SUMMARY:Führung durch das Münchner Klärwerk &quot;Gut Großlappen&quot;
DESCRIPTION:&lt;div style=&quot;background:transparent; border:0px; padding:0px 15px&quot;&gt; &lt;p&gt;Aus den Augen, aus dem Sinn: Wer macht sich schon Gedanken über das Wasser, das im Abfluss verschwindet, nachdem die Morgentoilette beendet, das Geschirr gespült und die Wäsche gewaschen ist? Zur Abwassersammlung und -ableitung in München dient ein Kanalnetz mit 1.250 Kilometer begehbaren Kanälen und 1.150 Kilometern Rohrleitungen. Aus rund 140.000 Hausanschlüssen und 70.000 Straßenabläufen fließen jährlich etwa 160 Millionen Kubikmeter Abwasser zu den beiden Münchner Klärwerken. Eines davon, das &quot;Klärwerk Gut Großlappen&quot; werden wir besichtigen.&lt;/p&gt; &lt;p&gt;&amp;nbsp;&lt;/p&gt; &lt;/div&gt; 
DTSTART:20240306T140000
DTEND:20240306T163000
LOCATION:Anfahrtsweg und Treffpunkt erhalten die TeilnehmerInnen rechtzeitig vor dem Termin
ORGANIZER:DGB-Bildungswerk Bayern e.V. Region München
END:VEVENT
END:VCALENDAR