BEGIN:VCALENDAR
VERSION:2.0
PRODID:-//Stadtgeschichte München//DE
CALSCALE:GREGORIAN
BEGIN:VEVENT
UID:24007@stadtgeschichte-muenchen.de
SUMMARY:Maximiliansanlagen
DESCRIPTION:&lt;p&gt;Die Stadtsilhouette Münchens war immer nur ansatzweise zur Isar hin ausgerichtet. Trotzdem sind an beiden Ufern viele beachtenswerte, interessante Bauwerke zu finden: zwei große Kirchen, ein riesiges Museum auf einer Insel, eine weitere Insel, auf der sich einst ein beliebtes Ausflugsrestaurant befand, interessante Brücken, ein Jugendstil-Badetempel, ein Kulturzentrum mit Konzertsaal, ein repräsentatives Internat für begabte Landessöhne (das heutige Bayerische Parlament), kaum bekannte Denkmäler, vor allem aber gehen wir durch die viel zu wenig beachteten Maximiliansanlagen, die heute weitgehend zugewachsen, früher eindrucksvolle Aussichtsplätze über die Münchner Türme und über die prachtvollen Nobelmietshäuser an der Isarparallele geboten hatten.&lt;/p&gt; 
DTSTART:20240616T100000
DTEND:20240616T120000
LOCATION:Gasteig-Zentrum, Ecke Rosenheimer Straße / gegenüber der Hochstraße
ORGANIZER:DGB-Bildungswerk Bayern e.V. Region München
END:VEVENT
END:VCALENDAR