BEGIN:VCALENDAR
VERSION:2.0
PRODID:-//Stadtgeschichte München//DE
CALSCALE:GREGORIAN
BEGIN:VEVENT
UID:24010@stadtgeschichte-muenchen.de
SUMMARY:Maxvorstadt: Große Politik in Architektur und Straßennnamen
DESCRIPTION:&lt;p&gt;Die politisch Mächtigen streben danach, dass die Untertanen ihren Machtanspruch auch in der Architektur und auf dem Straßenschild spüren. In der Maxvorstadt wird dies in besonderem Maße sichtbar, gerade was die bayerische Außen- und Kriegspolitik im 19. Jahrhundert betrifft. Aber auch die allgemeine Politik vom 19. Jahrhundert bis heute hinterließ ihre Spuren im Stadtteil, und zwar nicht nur im NS-Parteiviertel um den Königsplatz. Während zwei Stunden erinnern wir uns, so wie es sich die ehemaligen Machthaber von uns wünschten, wenn auch nicht unbedingt in ihrem Sinn.&lt;/p&gt; 
DTSTART:20240621T160000
DTEND:20240621T180000
LOCATION:Haupteingang Justizpalast, Prielmayerstr. 7
ORGANIZER:DGB-Bildungswerk Bayern e.V. Region München
END:VEVENT
END:VCALENDAR