BEGIN:VCALENDAR
VERSION:2.0
PRODID:-//Stadtgeschichte München//DE
CALSCALE:GREGORIAN
BEGIN:VEVENT
UID:24036@stadtgeschichte-muenchen.de
SUMMARY:Die Nacht ist nicht allein zum Schlafen da
DESCRIPTION:&lt;p&gt;Viele Menschen betrachten es als selbstverständlich, dass um 1.30 Uhr eine S-Bahn fährt, der Notdienst erreichbar ist, die Semmeln frühmorgens frisch sind oder jederzeit sauberes Trinkwasser aus der Leitung kommt. Doch für diese Annehmlichkeiten arbeiten viele Menschen nachts. Was bewegt sie? Welche Tätigkeiten fallen nachts an? Wer arbeitet eigentlich nachts und warum? Auf dieser Bustour durch die nächtliche Arbeitswelt werden wir vier Unternehmen besuchen und Nachtarbeit aus erster Hand erleben.&lt;/p&gt; &lt;p&gt;Diese Veranstaltung richtet sich an Erwachsene.&lt;/p&gt; 
DTSTART:00240628T210000
DTEND:00240628T050000
LOCATION:Gasteig, Rückseite
ORGANIZER:MVHS
END:VEVENT
END:VCALENDAR