BEGIN:VCALENDAR
VERSION:2.0
PRODID:-//Stadtgeschichte München//DE
CALSCALE:GREGORIAN
BEGIN:VEVENT
UID:24059@stadtgeschichte-muenchen.de
SUMMARY:Münchner Altstadtviertel: die Graggenau
DESCRIPTION:&lt;p&gt;Das Tal, die ehemals breiteste Straße der Altstadt, zieht sich wie eine Lebensader durch die Graggenau, das nordöstliche Viertel der Münchner Altstadt. Bei dieser Führung erkunden wir den ehemals wichtigsten, in das Zentrum der Stadt führenden Handelsweg und begeben uns in den links und rechts abzweigenden Seitenstraßen auf Spurensuche – quer durch die Jahrhunderte. Wir gehen der Frage nach, welches Gebäude die Bezeichnung „Ältestes Bürgerhaus Münchens“ für sich in Anspruch nehmen kann. Und was hat es eigentlich mit der „Goldenen Neunzehn“ auf sich?&lt;/p&gt; 
DTSTART:20240901T110000
DTEND:20240901T130000
LOCATION:Isartor, Innenhof Isartorplat
ORGANIZER:MVHS
END:VEVENT
END:VCALENDAR