BEGIN:VCALENDAR
VERSION:2.0
PRODID:-//Stadtgeschichte München//DE
CALSCALE:GREGORIAN
BEGIN:VEVENT
UID:24062@stadtgeschichte-muenchen.de
SUMMARY:Zwischen Volksbad und Prater
DESCRIPTION:&lt;p&gt;Am Isarufer und auf den Isar-Inseln entstanden im 19. Jahrhundert viele bemerkenswerte Bauten. Das Deutsche Museum ist allgemein bekannt. Aber wer weiß, dass dort ein Planetenweg beginnt? Noch vieles andere gibt es bei diesem Spaziergang zu entdecken, etwa Museen, Brunnen, Denkmäler, ein großartiges Jugendstilbad – und viel Geschichtliches über die Isar und über das Zusammenspiel von Stadt, Mensch und Fluss.&lt;/p&gt; 
DTSTART:20240711T180000
DTEND:20240711T200000
LOCATION:Müllersches Volksbad
ORGANIZER:MVHS
END:VEVENT
END:VCALENDAR