BEGIN:VCALENDAR
VERSION:2.0
PRODID:-//Stadtgeschichte München//DE
CALSCALE:GREGORIAN
BEGIN:VEVENT
UID:24073@stadtgeschichte-muenchen.de
SUMMARY:Ohne Napoleon kein Königreich Bayern?
DESCRIPTION:&lt;p&gt;Was genau hat zur Erhebung Bayerns zum Königreich geführt und wer war außer Napoleon daran beteiligt? Wie konnte ein Einzelner jahrhundertealte Länder und Verhältnisse in halb Europa auf den Kopf stellen? War es wirklich Napoleon allein? Bayern sah sich damals Umwälzungen ungeahnten Ausmaßes gegenüber. Kaum zehn Jahre später war es mit Napoleons Macht endgültig vorbei. Der Spaziergang durch die Stadt zeigt nicht nur, wo Napoleon einst in München unterwegs war, sondern auch, was über seinen Sturz hinaus alles geblieben ist.&lt;/p&gt; 
DTSTART:20240813T170000
DTEND:20240813T190000
LOCATION:Stachus Karlsplatz
ORGANIZER:MVHS
END:VEVENT
END:VCALENDAR