BEGIN:VCALENDAR
VERSION:2.0
PRODID:-//Stadtgeschichte München//DE
CALSCALE:GREGORIAN
BEGIN:VEVENT
UID:24084@stadtgeschichte-muenchen.de
SUMMARY:Führung durch die Münchner Hauptsynagoge Ohel-Jakob
DESCRIPTION:&lt;p&gt;Die am 9.11.2006 eingeweihte Hauptsynagoge Münchens gilt als Meisterwerk zeitgenössischer (Sakral-)Architektur und gehört zu den eindrucksvollsten Synagogenneubauten Europas. Im Rahmen der Führung erhalten Sie eine Einführung in die Geschichte der jüdischen Gemeinde in München, in die Architektur der Synagoge sowie in den Ablauf eines Gottesdienstes. Die Synagoge betreten die Besucher*innen durch den unterirdischen Gang der Erinnerung.&lt;/p&gt; &lt;p&gt;Die IKG erhält zu dem Termin die Daten der Teilnehmenden.&lt;/p&gt; 
DTSTART:20240507T165000
DTEND:20240507T180000
LOCATION:Ohel-Jakob-Synagoge Sankt-Jakobs-Platz 18
ORGANIZER:MVHS
END:VEVENT
END:VCALENDAR