BEGIN:VCALENDAR
VERSION:2.0
PRODID:-//Stadtgeschichte München//DE
CALSCALE:GREGORIAN
BEGIN:VEVENT
UID:24107@stadtgeschichte-muenchen.de
SUMMARY:Wo wird Politik gemacht?
DESCRIPTION:&lt;p&gt;Der Bezirk Oberbayern ist nicht nur Träger der psychiatrischen und neurologischen Versorgung, sondern engagiert sich unter anderem auch in der Kultur sowie für Heimat- und Umweltpflege. Verwaltet wird der Bezirk Oberbayern durch den gleichzeitig mit dem Bayerischen Landtag gewählten Bezirkstag. Bei der Veranstaltung werden Sie informiert über die Aufgaben der dritten kommunalen Ebene, die auch die Belange der Menschen im Münchner Norden berühren.&lt;/p&gt; 
DTSTART:20240415T170000
DTEND:20240415T190000
LOCATION:Bezirk Oberbayern Prinzregentenstr. 14
ORGANIZER:MVHS
END:VEVENT
END:VCALENDAR