BEGIN:VCALENDAR
VERSION:2.0
PRODID:-//Stadtgeschichte München//DE
CALSCALE:GREGORIAN
BEGIN:VEVENT
UID:24109@stadtgeschichte-muenchen.de
SUMMARY:Kommt die Fernwärme nach Moosach ?
DESCRIPTION:&lt;p&gt;Seit Anfang 2021 sind wesentliche Teile Moosachs Sanierungsgebiet. Neben Themen wie Städtebau und öffentlichen Grünflächen spielt auch der Klimaschutz eine wichtige Rolle.&lt;/p&gt; &lt;p&gt;Erfahren Sie, welche Beratungsangebote und Fördermöglichkeiten es für die energetische Sanierung Ihrer Immobilie im Sanierungsgebiet gibt.&lt;/p&gt; &lt;p&gt;In Kooperation mit der Münchner Gesellschaft für Stadterneuerung mbH.&lt;/p&gt; &lt;p&gt;&amp;nbsp;&lt;/p&gt; &lt;ul&gt; &lt;/ul&gt; 
DTSTART:20240506T190000
DTEND:20240506T210000
LOCATION:MVHS in Moosach Baubergerstr. 6a
ORGANIZER:MVHS
END:VEVENT
END:VCALENDAR