BEGIN:VCALENDAR
VERSION:2.0
PRODID:-//Stadtgeschichte München//DE
CALSCALE:GREGORIAN
BEGIN:VEVENT
UID:24120@stadtgeschichte-muenchen.de
SUMMARY:Der U-Bahn-Betriebshof Nord
DESCRIPTION:&lt;p&gt;Wer ist schuld, wenn die U-Bahn nicht kommt? Der reibungslose Ablauf der Münchner U-Bahn wird als selbstverständlich vorausgesetzt und folgt doch einer höchst komplexen Logistik. Viele Einrichtungen und Mitarbeitende sorgen dafür, dass täglich Hunderttausende schnell und sicher durch München transportiert werden. Dass dies gar nicht so einfach ist, kann am Ende selbst am Simulator ausprobiert werden.&lt;/p&gt; 
DTSTART:20240912T140000
DTEND:20240912T170000
LOCATION:Hans-Jensen-Weg 10 
ORGANIZER:MVHS
END:VEVENT
END:VCALENDAR