BEGIN:VCALENDAR
VERSION:2.0
PRODID:-//Stadtgeschichte München//DE
CALSCALE:GREGORIAN
BEGIN:VEVENT
UID:24141@stadtgeschichte-muenchen.de
SUMMARY:Drei grüne Oasen mitten im urbanen Trubel
DESCRIPTION:&lt;p&gt;Im Herzen Münchens befinden sich drei sehr gegensätzliche Gartenanlagen in direkter Nachbarschaft. Da ist zum einem der naturbelassene und verträumte Finanzgarten, eine unbekannte Oase. Als fürstliche, frühbarocke Parkanlage war der Hofgarten einst repräsentativer Schauplatz des höfischen Lebens, bevor er Ende des 18. Jahrhunderts für die Bevölkerung geöffnet wurde. Ganz in der Nähe befindet sich der 2003 neugestaltete Kabinettsgarten. Je nach Zeit immer wieder verändert, beherbergen diese Gärten auch vielseitige Kunstwerke, die es zu entdecken gilt.&lt;/p&gt; 
DTSTART:20240411T160000
DTEND:20240411T181500
LOCATION:Hofgarten am Eingangstor Odeonsplatz
ORGANIZER:Münchner Bildungswerk e.V.
END:VEVENT
END:VCALENDAR