BEGIN:VCALENDAR
VERSION:2.0
PRODID:-//Stadtgeschichte München//DE
CALSCALE:GREGORIAN
BEGIN:VEVENT
UID:24153@stadtgeschichte-muenchen.de
SUMMARY:v
DESCRIPTION:&lt;p&gt;Die Autorin des KulturGeschichtsPfads, Dr. Karin Pohl, führt durch den nördlichen Teil des Stadtbezirks: Vom Denkmal des einstigen &quot;Judenlagers&quot;, das an die jüdischen Bürgerinnen und Bürger erinnert, die von hier in nationalsozialistische Vernichtungslager deportiert wurden, passieren wir Kleinsiedlungen aus der NS-Zeit und die &quot;Volkswohnanlage&quot; Harthof. Der Weg führt zur ehemaligen SS-Kaserne (heute Ernst-von-Bergmann-Kaserne), einer früheren Wohnsiedlung der US-Armee und endet an der Siedlung Nordhaide und der ehemaligen Panzerwiese (ca. 7 km Streckenlänge).&lt;/p&gt; &lt;p&gt;&amp;nbsp;&lt;/p&gt; &lt;p&gt;&amp;nbsp;&lt;/p&gt; &lt;ul&gt; &lt;/ul&gt; 
DTSTART:20240630T100000
DTEND:20240630T130000
LOCATION:Denkmal ehemaliges Judenlager Knorrstr./Ecke Troppauer Str.
ORGANIZER:MVHS
END:VEVENT
END:VCALENDAR