BEGIN:VCALENDAR
VERSION:2.0
PRODID:-//Stadtgeschichte München//DE
CALSCALE:GREGORIAN
BEGIN:VEVENT
UID:24160@stadtgeschichte-muenchen.de
SUMMARY:Sie fragen, wir antworten
DESCRIPTION:&lt;p&gt;Der Beamte der Polizeiinspektion 21 berichtet eingangs über die Lage im Viertel sowie über die aktuellen Tricks der Kriminellen bezüglich Betrug und Einbruch. Den thematischen Schwerpunkt bilden die Fragen der Anwesenden. Entlang der Fragen geht Polizeihauptkommisar Stefan Herbst darauf ein, wie bedrohliche Situationen vermieden und entschärft werden können. Besprochen werden aber auch weitere, darüber hinaus sinnvolle präventive Maßnahmen im Allgemeinen und auch speziell für Senior*innen.&lt;/p&gt; &lt;p&gt;In Kooperation mit der Polizeiinspektion 21.&lt;/p&gt; 
DTSTART:20240417T100000
DTEND:20240417T113000
LOCATION:MVHS in Ramersdorf Claudius-Keller-Str. 7
ORGANIZER:MVHS
END:VEVENT
END:VCALENDAR