BEGIN:VCALENDAR
VERSION:2.0
PRODID:-//Stadtgeschichte München//DE
CALSCALE:GREGORIAN
BEGIN:VEVENT
UID:24166@stadtgeschichte-muenchen.de
SUMMARY:Borstei – Zwei Varianten des guten sozialen Miteinanders
DESCRIPTION:&lt;p&gt;In der Mustersiedlung der Borstei lernen wir die Umsetzung der Idee von Dr. Borst kennen und gleich gegenüber die Realisierung des Schrebergartengedankens von Dr. Schreber.&lt;br /&gt; &amp;nbsp;&lt;/p&gt; 
DTSTART:20240419T150000
DTEND:20240419T170000
LOCATION:wird nach der Anmeldung bekanntgegeben.
ORGANIZER:Evangelisches Bildungswerk e.V.
END:VEVENT
END:VCALENDAR