BEGIN:VCALENDAR
VERSION:2.0
PRODID:-//Stadtgeschichte München//DE
CALSCALE:GREGORIAN
BEGIN:VEVENT
UID:24168@stadtgeschichte-muenchen.de
SUMMARY:Hoch überm Mühlbach – die Obere Au
DESCRIPTION:&lt;p&gt;„Drunt in da greana Au steht a Birnbam“. Droben in der Au – zwischen Haidhausen und Giesing – stoßen wir auf Spuren einer traditionsreichen Brauerei und auf die Ursprünge der Psychiatrie in Haar. Auf unserem Weg liegen alte Brunnen, denkmalgeschützte Genossenschaftssiedlungen, Neubauviertel und große Bauprojekte. Und soziale Einrichtungen und Begegnungsstätten wie das Sternenhaus und das Café JoMa, wo wir zum Abschluss einkehren können.&lt;br /&gt; &amp;nbsp;&lt;/p&gt; 
DTSTART:20240426T140000
DTEND:20240426T160000
LOCATION:wird nach der Anmeldung bekanntgegeben.
ORGANIZER:Evangelisches Bildungswerk e.V.
END:VEVENT
END:VCALENDAR