BEGIN:VCALENDAR
VERSION:2.0
PRODID:-//Stadtgeschichte München//DE
CALSCALE:GREGORIAN
BEGIN:VEVENT
UID:24188@stadtgeschichte-muenchen.de
SUMMARY:Öffentliche Namenlesung zum Gedenken an die aus München deportierten Sinti*zze und Rom*nja
DESCRIPTION:&lt;p&gt;Am 13. März gedenkt die Landeshauptstadt München alljährlich der Opfer des Völkermords an den Sinti*zze und Rom*nja. Am 13. März 1943 veranlasste die Münchner Polizei die Deportation von 141 Sinti*zze und Rom*nja aus München und Umgebung in das Vernichtungslager Auschwitz-Birkenau. Bereits am 8. März 1943 begannen in München die Verhaftungen ganzer Familien. Viele der Frauen, Männer und Kinder fielen dort den Mordaktionen und den grausamen Bedingungen zum Opfer oder wurden in anderen Konzentrationslagern ermordet.&lt;/p&gt; &lt;p&gt;Nach Kriegsende setzten sich die Diskriminierung und Kriminalisierung der wenigen Überlebenden in Behörden, Schulen und Institutionen fort. Sie erfuhren weder eine Anerkennung als Opfer nationalsozialistischer Verfolgung noch erhielten sie Entschädigungsleistungen. Die Täter*innen hingegen konnten in den allermeisten Fällen ihre Karrieren ungebrochen weiterführen. Auch heute noch sehen sich Angehörige der Minderheit mit zahlreichen Vorurteilen konfrontiert.&amp;nbsp;&lt;/p&gt; &lt;p&gt;Anlässlich des diesjährigen 81. Jahrestages veranstaltet die Arbeitsgemeinschaft&amp;nbsp;&lt;em&gt;Gedenken an die Deportation der Sinti und Roma&lt;/em&gt;&amp;nbsp;einen Abend mit Musik und Liedern der Sinti*zze und Rom*nja, die Bezug auf den Holocaust und die Zeit danach nehmen und das reiche kulturelle Erbe der Community zeigen.&lt;/p&gt; &lt;p&gt;Grußworte&amp;nbsp;&lt;br /&gt; Stadträtin Marion Lüttig in Vertretung des Oberbürgermeisters der Landeshauptstadt München&lt;br /&gt; Erich Schneeberger, Verband Deutscher Sinti und Roma Landesverband Bayern e.V.&amp;nbsp;&lt;/p&gt; &lt;p&gt;Einführung&lt;br /&gt; Alexander Diepold, Madhouse gemeinnützige GmbH&lt;/p&gt; &lt;p&gt;Kranzniederlegung &amp;amp; Namenlesung&lt;br /&gt; Hugo Höllenreiner, Familienangehöriger&lt;br /&gt; Michael Weinzierl, Beauftrager der Bayerischen Polizei gegen Hasskriminalität&amp;nbsp;&lt;br /&gt; Beschäftigte des Bayerischen Landeskriminalamts und des Polizeipräsidiums München&lt;br /&gt; Schüler*innen des Städtischen Käthe-Kollwitz-Gymnasiums München&lt;/p&gt; &lt;p&gt;Ökumenisches Gebet für die Opfer&lt;/p&gt; 
DTSTART:20240313T160000
DTEND:20240313T170000
LOCATION:Platz der Opfer des Nationalsozialismus
ORGANIZER:NS-Dokumentationszentrum München
END:VEVENT
END:VCALENDAR