BEGIN:VCALENDAR
VERSION:2.0
PRODID:-//Stadtgeschichte München//DE
CALSCALE:GREGORIAN
BEGIN:VEVENT
UID:24194@stadtgeschichte-muenchen.de
SUMMARY:München und die Wissenschaft
DESCRIPTION:&lt;p&gt;Zwischen der Gründung der ersten bayerischen Universität 1472 und den heutigen Münchner Exzellenzuniversitäten liegen über 550 Jahre. Im Jahr 1826 wurde die erste bayerische Universität nach München verlegt, Wissenschaft wurde hier aber natürlich schon sehr viel früher betrieben. Wer waren die klugen Köpfe, die weiter sahen und dachten als ihre Mitmenschen? Was hat z.B. die Venus damit zu tun? Finden Sie\'s raus. Tauchen Sie bequem von zu Haus ein in die teils gemächlichen, teils stürmischen Entwicklungen und lassen Sie sich von bedeutenden Forschenden seit 1492 inspirieren, von Petrus Canisius über Justus von Liebig bis zur Frau Professorin Susanne Mertens.&lt;/p&gt; 
DTSTART:20240409T180000
DTEND:20240409T193000
LOCATION:
ORGANIZER:MVHS
END:VEVENT
END:VCALENDAR